BEGIN:VCALENDAR
VERSION:2.0
PRODID:-//Evangelische Lukasgemeinde Wiesbaden - ECPv6.15.17.1//NONSGML v1.0//EN
CALSCALE:GREGORIAN
METHOD:PUBLISH
X-WR-CALNAME:Evangelische Lukasgemeinde Wiesbaden
X-ORIGINAL-URL:https://lukasgemeinde.de
X-WR-CALDESC:Veranstaltungen für Evangelische Lukasgemeinde Wiesbaden
REFRESH-INTERVAL;VALUE=DURATION:PT1H
X-Robots-Tag:noindex
X-PUBLISHED-TTL:PT1H
BEGIN:VTIMEZONE
TZID:Europe/Berlin
BEGIN:DAYLIGHT
TZOFFSETFROM:+0100
TZOFFSETTO:+0200
TZNAME:CEST
DTSTART:20250330T010000
END:DAYLIGHT
BEGIN:STANDARD
TZOFFSETFROM:+0200
TZOFFSETTO:+0100
TZNAME:CET
DTSTART:20251026T010000
END:STANDARD
BEGIN:DAYLIGHT
TZOFFSETFROM:+0100
TZOFFSETTO:+0200
TZNAME:CEST
DTSTART:20260329T010000
END:DAYLIGHT
BEGIN:STANDARD
TZOFFSETFROM:+0200
TZOFFSETTO:+0100
TZNAME:CET
DTSTART:20261025T010000
END:STANDARD
BEGIN:DAYLIGHT
TZOFFSETFROM:+0100
TZOFFSETTO:+0200
TZNAME:CEST
DTSTART:20270328T010000
END:DAYLIGHT
BEGIN:STANDARD
TZOFFSETFROM:+0200
TZOFFSETTO:+0100
TZNAME:CET
DTSTART:20271031T010000
END:STANDARD
END:VTIMEZONE
BEGIN:VEVENT
DTSTART;TZID=Europe/Berlin:20260503T170000
DTEND;TZID=Europe/Berlin:20260503T180000
DTSTAMP:20260419T163620
CREATED:20260408T094939Z
LAST-MODIFIED:20260408T094939Z
UID:4759-1777827600-1777831200@lukasgemeinde.de
SUMMARY:Abendgottesdienst
DESCRIPTION:
URL:https://lukasgemeinde.de/event/abendgottesdienst-64/
END:VEVENT
BEGIN:VEVENT
DTSTART;TZID=Europe/Berlin:20260510T100000
DTEND;TZID=Europe/Berlin:20260510T110000
DTSTAMP:20260419T163620
CREATED:20260408T095406Z
LAST-MODIFIED:20260408T095406Z
UID:4764-1778407200-1778410800@lukasgemeinde.de
SUMMARY:Andacht
DESCRIPTION:
URL:https://lukasgemeinde.de/event/andacht-45/
END:VEVENT
BEGIN:VEVENT
DTSTART;TZID=Europe/Berlin:20260514T100000
DTEND;TZID=Europe/Berlin:20260514T110000
DTSTAMP:20260419T163620
CREATED:20260408T101735Z
LAST-MODIFIED:20260408T101735Z
UID:4808-1778752800-1778756400@lukasgemeinde.de
SUMMARY:Gottesdienst an Himmelfahrt im Kirchgarten der Hauptkirche Biebrich
DESCRIPTION:
URL:https://lukasgemeinde.de/event/gottesdienst-an-himmelfahrt-im-kirchgarten-der-hauptkirche-biebrich/
END:VEVENT
BEGIN:VEVENT
DTSTART;TZID=Europe/Berlin:20260517T100000
DTEND;TZID=Europe/Berlin:20260517T110000
DTSTAMP:20260419T163620
CREATED:20260408T095519Z
LAST-MODIFIED:20260408T095519Z
UID:4766-1779012000-1779015600@lukasgemeinde.de
SUMMARY:Gottesdienst mit Abendmahl
DESCRIPTION:
URL:https://lukasgemeinde.de/event/gottesdienst-mit-abendmahl-64/
END:VEVENT
BEGIN:VEVENT
DTSTART;TZID=Europe/Berlin:20260517T190000
DTEND;TZID=Europe/Berlin:20260517T200000
DTSTAMP:20260419T163620
CREATED:20260115T100234Z
LAST-MODIFIED:20260408T094716Z
UID:4745-1779044400-1779048000@lukasgemeinde.de
SUMMARY:Konzert mit DÉANO
DESCRIPTION:2026 05 17 Deáno am 17.05.2026
URL:https://lukasgemeinde.de/event/konzert-mit-deano/
END:VEVENT
BEGIN:VEVENT
DTSTART;TZID=Europe/Berlin:20260524T100000
DTEND;TZID=Europe/Berlin:20260524T110000
DTSTAMP:20260419T163620
CREATED:20260408T095615Z
LAST-MODIFIED:20260408T095615Z
UID:4768-1779616800-1779620400@lukasgemeinde.de
SUMMARY:Gottesdienst\, anschließend Kirchentee
DESCRIPTION:
URL:https://lukasgemeinde.de/event/gottesdienst-anschliessend-kirchentee-23/
END:VEVENT
BEGIN:VEVENT
DTSTART;TZID=Europe/Berlin:20260525T110000
DTEND;TZID=Europe/Berlin:20260525T120000
DTSTAMP:20260419T163620
CREATED:20260408T095752Z
LAST-MODIFIED:20260408T095752Z
UID:4770-1779706800-1779710400@lukasgemeinde.de
SUMMARY:Ökumenischer Gottesdienst am Pfingstmontag\, anschließend geselliges Beisammensein
DESCRIPTION:
URL:https://lukasgemeinde.de/event/oekumenischer-gottesdienst-am-pfingstmontag-anschliessend-geselliges-beisammensein/
END:VEVENT
BEGIN:VEVENT
DTSTART;TZID=Europe/Berlin:20260531T100000
DTEND;TZID=Europe/Berlin:20260531T110000
DTSTAMP:20260419T163620
CREATED:20260408T095821Z
LAST-MODIFIED:20260408T095821Z
UID:4772-1780221600-1780225200@lukasgemeinde.de
SUMMARY:Gottesdienst
DESCRIPTION:
URL:https://lukasgemeinde.de/event/gottesdienst-78/
END:VEVENT
END:VCALENDAR