BEGIN:VCALENDAR
VERSION:2.0
PRODID:-//Evangelische Lukasgemeinde Wiesbaden - ECPv6.15.17.1//NONSGML v1.0//EN
CALSCALE:GREGORIAN
METHOD:PUBLISH
X-ORIGINAL-URL:https://lukasgemeinde.de
X-WR-CALDESC:Veranstaltungen für Evangelische Lukasgemeinde Wiesbaden
REFRESH-INTERVAL;VALUE=DURATION:PT1H
X-Robots-Tag:noindex
X-PUBLISHED-TTL:PT1H
BEGIN:VTIMEZONE
TZID:Europe/Berlin
BEGIN:DAYLIGHT
TZOFFSETFROM:+0100
TZOFFSETTO:+0200
TZNAME:CEST
DTSTART:20250330T010000
END:DAYLIGHT
BEGIN:STANDARD
TZOFFSETFROM:+0200
TZOFFSETTO:+0100
TZNAME:CET
DTSTART:20251026T010000
END:STANDARD
BEGIN:DAYLIGHT
TZOFFSETFROM:+0100
TZOFFSETTO:+0200
TZNAME:CEST
DTSTART:20260329T010000
END:DAYLIGHT
BEGIN:STANDARD
TZOFFSETFROM:+0200
TZOFFSETTO:+0100
TZNAME:CET
DTSTART:20261025T010000
END:STANDARD
BEGIN:DAYLIGHT
TZOFFSETFROM:+0100
TZOFFSETTO:+0200
TZNAME:CEST
DTSTART:20270328T010000
END:DAYLIGHT
BEGIN:STANDARD
TZOFFSETFROM:+0200
TZOFFSETTO:+0100
TZNAME:CET
DTSTART:20271031T010000
END:STANDARD
END:VTIMEZONE
BEGIN:VEVENT
DTSTART;TZID=Europe/Berlin:20260201T170000
DTEND;TZID=Europe/Berlin:20260201T180000
DTSTAMP:20260419T182826
CREATED:20260115T094013Z
LAST-MODIFIED:20260115T094013Z
UID:4709-1769965200-1769968800@lukasgemeinde.de
SUMMARY:Abendgottesdienst
DESCRIPTION:
URL:https://lukasgemeinde.de/event/abendgottesdienst-63/
END:VEVENT
BEGIN:VEVENT
DTSTART;TZID=Europe/Berlin:20260208T100000
DTEND;TZID=Europe/Berlin:20260208T110000
DTSTAMP:20260419T182826
CREATED:20260115T094105Z
LAST-MODIFIED:20260115T094144Z
UID:4711-1770544800-1770548400@lukasgemeinde.de
SUMMARY:Andacht
DESCRIPTION:
URL:https://lukasgemeinde.de/event/andacht-42/
END:VEVENT
BEGIN:VEVENT
DTSTART;TZID=Europe/Berlin:20260215T100000
DTEND;TZID=Europe/Berlin:20260215T110000
DTSTAMP:20260419T182826
CREATED:20260115T094215Z
LAST-MODIFIED:20260115T094215Z
UID:4713-1771149600-1771153200@lukasgemeinde.de
SUMMARY:Gottesdienst mit Abendmahl
DESCRIPTION:
URL:https://lukasgemeinde.de/event/gottesdienst-mit-abendmahl-62/
END:VEVENT
BEGIN:VEVENT
DTSTART;TZID=Europe/Berlin:20260222T100000
DTEND;TZID=Europe/Berlin:20260222T110000
DTSTAMP:20260419T182826
CREATED:20260115T094245Z
LAST-MODIFIED:20260115T094245Z
UID:4715-1771754400-1771758000@lukasgemeinde.de
SUMMARY:Gottesdienst\, anschließend Kirchentee
DESCRIPTION:
URL:https://lukasgemeinde.de/event/gottesdienst-anschliessend-kirchentee-20/
END:VEVENT
END:VCALENDAR