BEGIN:VCALENDAR
VERSION:2.0
PRODID:-//Evangelische Lukasgemeinde Wiesbaden - ECPv6.15.17.1//NONSGML v1.0//EN
CALSCALE:GREGORIAN
METHOD:PUBLISH
X-ORIGINAL-URL:https://lukasgemeinde.de
X-WR-CALDESC:Veranstaltungen für Evangelische Lukasgemeinde Wiesbaden
REFRESH-INTERVAL;VALUE=DURATION:PT1H
X-Robots-Tag:noindex
X-PUBLISHED-TTL:PT1H
BEGIN:VTIMEZONE
TZID:Europe/Berlin
BEGIN:DAYLIGHT
TZOFFSETFROM:+0100
TZOFFSETTO:+0200
TZNAME:CEST
DTSTART:20240331T010000
END:DAYLIGHT
BEGIN:STANDARD
TZOFFSETFROM:+0200
TZOFFSETTO:+0100
TZNAME:CET
DTSTART:20241027T010000
END:STANDARD
BEGIN:DAYLIGHT
TZOFFSETFROM:+0100
TZOFFSETTO:+0200
TZNAME:CEST
DTSTART:20250330T010000
END:DAYLIGHT
BEGIN:STANDARD
TZOFFSETFROM:+0200
TZOFFSETTO:+0100
TZNAME:CET
DTSTART:20251026T010000
END:STANDARD
BEGIN:DAYLIGHT
TZOFFSETFROM:+0100
TZOFFSETTO:+0200
TZNAME:CEST
DTSTART:20260329T010000
END:DAYLIGHT
BEGIN:STANDARD
TZOFFSETFROM:+0200
TZOFFSETTO:+0100
TZNAME:CET
DTSTART:20261025T010000
END:STANDARD
END:VTIMEZONE
BEGIN:VEVENT
DTSTART;TZID=Europe/Berlin:20251102T170000
DTEND;TZID=Europe/Berlin:20251102T180000
DTSTAMP:20260419T233255
CREATED:20250814T104544Z
LAST-MODIFIED:20250814T104544Z
UID:4638-1762102800-1762106400@lukasgemeinde.de
SUMMARY:Abendgottesdienst
DESCRIPTION:
URL:https://lukasgemeinde.de/event/abendgottesdienst-61/
END:VEVENT
BEGIN:VEVENT
DTSTART;TZID=Europe/Berlin:20251108T170000
DTEND;TZID=Europe/Berlin:20251108T180000
DTSTAMP:20260419T233255
CREATED:20251009T091951Z
LAST-MODIFIED:20251009T092924Z
UID:4667-1762621200-1762624800@lukasgemeinde.de
SUMMARY:Konzert von DEÁNO in der Lukaskirche
DESCRIPTION:Link zum Plakat: 2025 11 08 Deáno in der Lukasgemeinde \nHochkarätige Musik vor Ihrer Haustür!\nEinen besonders unterhaltsamen Abend voll musikalischer Raffinesse und Unterhaltung bietet das Vokalterzett Deáno mit einer musikalischen Zeitreise am 08.11.2025 um 17 Uhr in der Lukasgemeinde\, Klagenfurter Ring 61.\nSusanne Juhre (Sopran)\, Laura-Maria Püsch (Alt)\, Leo Heidingsfelder (Bariton)\nDauer: ca. 1 h\nEintritt frei\, Spenden erbeten
URL:https://lukasgemeinde.de/event/konzert-von-deano-in-der-lukaskirche/
END:VEVENT
BEGIN:VEVENT
DTSTART;TZID=Europe/Berlin:20251109T100000
DTEND;TZID=Europe/Berlin:20251109T110000
DTSTAMP:20260419T233255
CREATED:20250814T104709Z
LAST-MODIFIED:20250814T104709Z
UID:4640-1762682400-1762686000@lukasgemeinde.de
SUMMARY:Andacht
DESCRIPTION:
URL:https://lukasgemeinde.de/event/andacht-41/
END:VEVENT
BEGIN:VEVENT
DTSTART;TZID=Europe/Berlin:20251116T100000
DTEND;TZID=Europe/Berlin:20251116T110000
DTSTAMP:20260419T233255
CREATED:20250814T104758Z
LAST-MODIFIED:20250814T104758Z
UID:4642-1763287200-1763290800@lukasgemeinde.de
SUMMARY:Gottesdienst mit Abendmahl
DESCRIPTION:
URL:https://lukasgemeinde.de/event/gottesdienst-mit-abendmahl-59/
END:VEVENT
BEGIN:VEVENT
DTSTART;TZID=Europe/Berlin:20251123T100000
DTEND;TZID=Europe/Berlin:20251123T110000
DTSTAMP:20260419T233255
CREATED:20250814T104917Z
LAST-MODIFIED:20250814T104917Z
UID:4644-1763892000-1763895600@lukasgemeinde.de
SUMMARY:Gottesdienst am Ewigkeitssonntag mit Abendmahl
DESCRIPTION:
URL:https://lukasgemeinde.de/event/gottesdienst-am-ewigkeitssonntag-mit-abendmahl/
END:VEVENT
BEGIN:VEVENT
DTSTART;TZID=Europe/Berlin:20251130T100000
DTEND;TZID=Europe/Berlin:20251130T110000
DTSTAMP:20260419T233255
CREATED:20250814T105015Z
LAST-MODIFIED:20250814T105015Z
UID:4646-1764496800-1764500400@lukasgemeinde.de
SUMMARY:Gottesdienst am 1. Advent
DESCRIPTION:
URL:https://lukasgemeinde.de/event/gottesdienst-am-1-advent-2/
END:VEVENT
END:VCALENDAR