BEGIN:VCALENDAR
VERSION:2.0
PRODID:-//Evangelische Lukasgemeinde Wiesbaden - ECPv6.15.17.1//NONSGML v1.0//EN
CALSCALE:GREGORIAN
METHOD:PUBLISH
X-ORIGINAL-URL:https://lukasgemeinde.de
X-WR-CALDESC:Veranstaltungen für Evangelische Lukasgemeinde Wiesbaden
REFRESH-INTERVAL;VALUE=DURATION:PT1H
X-Robots-Tag:noindex
X-PUBLISHED-TTL:PT1H
BEGIN:VTIMEZONE
TZID:Europe/Berlin
BEGIN:DAYLIGHT
TZOFFSETFROM:+0100
TZOFFSETTO:+0200
TZNAME:CEST
DTSTART:20240331T010000
END:DAYLIGHT
BEGIN:STANDARD
TZOFFSETFROM:+0200
TZOFFSETTO:+0100
TZNAME:CET
DTSTART:20241027T010000
END:STANDARD
BEGIN:DAYLIGHT
TZOFFSETFROM:+0100
TZOFFSETTO:+0200
TZNAME:CEST
DTSTART:20250330T010000
END:DAYLIGHT
BEGIN:STANDARD
TZOFFSETFROM:+0200
TZOFFSETTO:+0100
TZNAME:CET
DTSTART:20251026T010000
END:STANDARD
BEGIN:DAYLIGHT
TZOFFSETFROM:+0100
TZOFFSETTO:+0200
TZNAME:CEST
DTSTART:20260329T010000
END:DAYLIGHT
BEGIN:STANDARD
TZOFFSETFROM:+0200
TZOFFSETTO:+0100
TZNAME:CET
DTSTART:20261025T010000
END:STANDARD
END:VTIMEZONE
BEGIN:VEVENT
DTSTART;TZID=Europe/Berlin:20250907T170000
DTEND;TZID=Europe/Berlin:20250907T180000
DTSTAMP:20260420T043240
CREATED:20250624T115844Z
LAST-MODIFIED:20250624T115844Z
UID:4622-1757264400-1757268000@lukasgemeinde.de
SUMMARY:Abendgottesdienst
DESCRIPTION:
URL:https://lukasgemeinde.de/event/abendgottesdienst-60/
END:VEVENT
BEGIN:VEVENT
DTSTART;TZID=Europe/Berlin:20250914T100000
DTEND;TZID=Europe/Berlin:20250914T110000
DTSTAMP:20260420T043240
CREATED:20250624T115239Z
LAST-MODIFIED:20250624T115320Z
UID:4613-1757844000-1757847600@lukasgemeinde.de
SUMMARY:Andacht
DESCRIPTION:
URL:https://lukasgemeinde.de/event/abendgottesdienst-58/
END:VEVENT
BEGIN:VEVENT
DTSTART;TZID=Europe/Berlin:20250921T100000
DTEND;TZID=Europe/Berlin:20250921T110000
DTSTAMP:20260420T043240
CREATED:20250624T115929Z
LAST-MODIFIED:20250821T082947Z
UID:4624-1758448800-1758452400@lukasgemeinde.de
SUMMARY:Gottesdienst mit Abendmahl
DESCRIPTION:
URL:https://lukasgemeinde.de/event/gottesdienst-mit-taufe-5/
END:VEVENT
BEGIN:VEVENT
DTSTART;TZID=Europe/Berlin:20250926T170000
DTEND;TZID=Europe/Berlin:20250926T183000
DTSTAMP:20260420T043240
CREATED:20250916T121023Z
LAST-MODIFIED:20250916T121023Z
UID:4657-1758906000-1758911400@lukasgemeinde.de
SUMMARY:Von Glückspilzen Narren und Weisen - Internationale Märchen mit Christiane Müller
DESCRIPTION:
URL:https://lukasgemeinde.de/event/von-glueckspilzen-narren-und-weisen-internationale-maerchen-mit-christiane-mueller/
END:VEVENT
BEGIN:VEVENT
DTSTART;TZID=Europe/Berlin:20250928T100000
DTEND;TZID=Europe/Berlin:20250928T110000
DTSTAMP:20260420T043240
CREATED:20250624T120020Z
LAST-MODIFIED:20250821T083021Z
UID:4626-1759053600-1759057200@lukasgemeinde.de
SUMMARY:Gottesdienst mit Taufen\, anschl. Kirchentee
DESCRIPTION:
URL:https://lukasgemeinde.de/event/gottesdienst-anschl-kirchentee-14/
END:VEVENT
END:VCALENDAR