BEGIN:VCALENDAR
VERSION:2.0
PRODID:-//Evangelische Lukasgemeinde Wiesbaden - ECPv6.15.17.1//NONSGML v1.0//EN
CALSCALE:GREGORIAN
METHOD:PUBLISH
X-WR-CALNAME:Evangelische Lukasgemeinde Wiesbaden
X-ORIGINAL-URL:https://lukasgemeinde.de
X-WR-CALDESC:Veranstaltungen für Evangelische Lukasgemeinde Wiesbaden
REFRESH-INTERVAL;VALUE=DURATION:PT1H
X-Robots-Tag:noindex
X-PUBLISHED-TTL:PT1H
BEGIN:VTIMEZONE
TZID:Europe/Berlin
BEGIN:DAYLIGHT
TZOFFSETFROM:+0100
TZOFFSETTO:+0200
TZNAME:CEST
DTSTART:20240331T010000
END:DAYLIGHT
BEGIN:STANDARD
TZOFFSETFROM:+0200
TZOFFSETTO:+0100
TZNAME:CET
DTSTART:20241027T010000
END:STANDARD
BEGIN:DAYLIGHT
TZOFFSETFROM:+0100
TZOFFSETTO:+0200
TZNAME:CEST
DTSTART:20250330T010000
END:DAYLIGHT
BEGIN:STANDARD
TZOFFSETFROM:+0200
TZOFFSETTO:+0100
TZNAME:CET
DTSTART:20251026T010000
END:STANDARD
BEGIN:DAYLIGHT
TZOFFSETFROM:+0100
TZOFFSETTO:+0200
TZNAME:CEST
DTSTART:20260329T010000
END:DAYLIGHT
BEGIN:STANDARD
TZOFFSETFROM:+0200
TZOFFSETTO:+0100
TZNAME:CET
DTSTART:20261025T010000
END:STANDARD
END:VTIMEZONE
BEGIN:VEVENT
DTSTART;TZID=Europe/Berlin:20250803T170000
DTEND;TZID=Europe/Berlin:20250803T180000
DTSTAMP:20260420T060644
CREATED:20250624T115536Z
LAST-MODIFIED:20250624T115536Z
UID:4616-1754240400-1754244000@lukasgemeinde.de
SUMMARY:Abendgottesdienst
DESCRIPTION:
URL:https://lukasgemeinde.de/event/abendgottesdienst-59/
END:VEVENT
BEGIN:VEVENT
DTSTART;TZID=Europe/Berlin:20250810T100000
DTEND;TZID=Europe/Berlin:20250810T110000
DTSTAMP:20260420T060644
CREATED:20250624T115603Z
LAST-MODIFIED:20250624T115603Z
UID:4618-1754820000-1754823600@lukasgemeinde.de
SUMMARY:Andacht
DESCRIPTION:
URL:https://lukasgemeinde.de/event/andacht-39/
END:VEVENT
BEGIN:VEVENT
DTSTART;TZID=Europe/Berlin:20250817T100000
DTEND;TZID=Europe/Berlin:20250817T110000
DTSTAMP:20260420T060644
CREATED:20250624T115650Z
LAST-MODIFIED:20250624T115751Z
UID:4620-1755424800-1755428400@lukasgemeinde.de
SUMMARY:Gottesdienst mit Abendmahl
DESCRIPTION:
URL:https://lukasgemeinde.de/event/gottesdienst-mit-abendmahl-57/
END:VEVENT
BEGIN:VEVENT
DTSTART;TZID=Europe/Berlin:20250824T100000
DTEND;TZID=Europe/Berlin:20250824T110000
DTSTAMP:20260420T060644
CREATED:20250624T114900Z
LAST-MODIFIED:20250624T115037Z
UID:4606-1756029600-1756033200@lukasgemeinde.de
SUMMARY:Gottesdienst\, anschl. Kirchentee
DESCRIPTION:
URL:https://lukasgemeinde.de/event/abendgottesdienst-57/
END:VEVENT
BEGIN:VEVENT
DTSTART;TZID=Europe/Berlin:20250831T100000
DTEND;TZID=Europe/Berlin:20250831T110000
DTSTAMP:20260420T060644
CREATED:20250624T115156Z
LAST-MODIFIED:20250624T115156Z
UID:4611-1756634400-1756638000@lukasgemeinde.de
SUMMARY:Ökumenischer Gottesdienst auf dem Mosburgfest
DESCRIPTION:
URL:https://lukasgemeinde.de/event/oekumenischer-gottesdienst-auf-dem-mosburgfest/
END:VEVENT
END:VCALENDAR