BEGIN:VCALENDAR
VERSION:2.0
PRODID:-//Evangelische Lukasgemeinde Wiesbaden - ECPv6.15.17.1//NONSGML v1.0//EN
CALSCALE:GREGORIAN
METHOD:PUBLISH
X-ORIGINAL-URL:https://lukasgemeinde.de
X-WR-CALDESC:Veranstaltungen für Evangelische Lukasgemeinde Wiesbaden
REFRESH-INTERVAL;VALUE=DURATION:PT1H
X-Robots-Tag:noindex
X-PUBLISHED-TTL:PT1H
BEGIN:VTIMEZONE
TZID:Europe/Berlin
BEGIN:DAYLIGHT
TZOFFSETFROM:+0100
TZOFFSETTO:+0200
TZNAME:CEST
DTSTART:20220327T010000
END:DAYLIGHT
BEGIN:STANDARD
TZOFFSETFROM:+0200
TZOFFSETTO:+0100
TZNAME:CET
DTSTART:20221030T010000
END:STANDARD
BEGIN:DAYLIGHT
TZOFFSETFROM:+0100
TZOFFSETTO:+0200
TZNAME:CEST
DTSTART:20230326T010000
END:DAYLIGHT
BEGIN:STANDARD
TZOFFSETFROM:+0200
TZOFFSETTO:+0100
TZNAME:CET
DTSTART:20231029T010000
END:STANDARD
BEGIN:DAYLIGHT
TZOFFSETFROM:+0100
TZOFFSETTO:+0200
TZNAME:CEST
DTSTART:20240331T010000
END:DAYLIGHT
BEGIN:STANDARD
TZOFFSETFROM:+0200
TZOFFSETTO:+0100
TZNAME:CET
DTSTART:20241027T010000
END:STANDARD
END:VTIMEZONE
BEGIN:VEVENT
DTSTART;TZID=Europe/Berlin:20230101T100000
DTEND;TZID=Europe/Berlin:20230101T110000
DTSTAMP:20260424T111224
CREATED:20221124T115220Z
LAST-MODIFIED:20221124T115220Z
UID:4082-1672567200-1672570800@lukasgemeinde.de
SUMMARY:Gottesdienst am Neujahrstag
DESCRIPTION:
URL:https://lukasgemeinde.de/event/gottesdienst-am-neujahrstag/
END:VEVENT
BEGIN:VEVENT
DTSTART;TZID=Europe/Berlin:20230108T100000
DTEND;TZID=Europe/Berlin:20230108T110000
DTSTAMP:20260424T111224
CREATED:20221124T115304Z
LAST-MODIFIED:20221124T115304Z
UID:4084-1673172000-1673175600@lukasgemeinde.de
SUMMARY:Andacht
DESCRIPTION:
URL:https://lukasgemeinde.de/event/andacht-13/
END:VEVENT
BEGIN:VEVENT
DTSTART;TZID=Europe/Berlin:20230111T170000
DTEND;TZID=Europe/Berlin:20230111T183000
DTSTAMP:20260424T111224
CREATED:20221124T113802Z
LAST-MODIFIED:20221124T113802Z
UID:4068-1673456400-1673461800@lukasgemeinde.de
SUMMARY:Christiane Müller erzählt Wintermärchen aus aller Welt
DESCRIPTION:
URL:https://lukasgemeinde.de/event/christiane-mueller-erzaehlt-wintermaerchen-aus-aller-welt/
END:VEVENT
BEGIN:VEVENT
DTSTART;TZID=Europe/Berlin:20230115T100000
DTEND;TZID=Europe/Berlin:20230115T110000
DTSTAMP:20260424T111224
CREATED:20221124T115346Z
LAST-MODIFIED:20221124T115346Z
UID:4086-1673776800-1673780400@lukasgemeinde.de
SUMMARY:Gottesdienst mit Abendmahl
DESCRIPTION:
URL:https://lukasgemeinde.de/event/gottesdienst-mit-abendmahl-37/
END:VEVENT
BEGIN:VEVENT
DTSTART;TZID=Europe/Berlin:20230122T100000
DTEND;TZID=Europe/Berlin:20230122T110000
DTSTAMP:20260424T111224
CREATED:20221124T115429Z
LAST-MODIFIED:20221124T115429Z
UID:4088-1674381600-1674385200@lukasgemeinde.de
SUMMARY:Gottesdienst\, anschließend Kirchentee
DESCRIPTION:
URL:https://lukasgemeinde.de/event/gottesdienst-anschliessend-kirchentee-10/
END:VEVENT
BEGIN:VEVENT
DTSTART;TZID=Europe/Berlin:20230126T150000
DTEND;TZID=Europe/Berlin:20230126T170000
DTSTAMP:20260424T111224
CREATED:20221124T124908Z
LAST-MODIFIED:20221124T124908Z
UID:4103-1674745200-1674752400@lukasgemeinde.de
SUMMARY:Seniorennachmittag
DESCRIPTION:
URL:https://lukasgemeinde.de/event/seniorennachmittag-35/
END:VEVENT
BEGIN:VEVENT
DTSTART;TZID=Europe/Berlin:20230129T100000
DTEND;TZID=Europe/Berlin:20230129T110000
DTSTAMP:20260424T111224
CREATED:20221124T115517Z
LAST-MODIFIED:20221124T115517Z
UID:4090-1674986400-1674990000@lukasgemeinde.de
SUMMARY:Gottesdienst
DESCRIPTION:
URL:https://lukasgemeinde.de/event/gottesdienst-73/
END:VEVENT
END:VCALENDAR