BEGIN:VCALENDAR
VERSION:2.0
PRODID:-//Evangelische Lukasgemeinde Wiesbaden - ECPv6.15.17.1//NONSGML v1.0//EN
CALSCALE:GREGORIAN
METHOD:PUBLISH
X-ORIGINAL-URL:https://lukasgemeinde.de
X-WR-CALDESC:Veranstaltungen für Evangelische Lukasgemeinde Wiesbaden
REFRESH-INTERVAL;VALUE=DURATION:PT1H
X-Robots-Tag:noindex
X-PUBLISHED-TTL:PT1H
BEGIN:VTIMEZONE
TZID:Europe/Berlin
BEGIN:DAYLIGHT
TZOFFSETFROM:+0100
TZOFFSETTO:+0200
TZNAME:CEST
DTSTART:20210328T010000
END:DAYLIGHT
BEGIN:STANDARD
TZOFFSETFROM:+0200
TZOFFSETTO:+0100
TZNAME:CET
DTSTART:20211031T010000
END:STANDARD
BEGIN:DAYLIGHT
TZOFFSETFROM:+0100
TZOFFSETTO:+0200
TZNAME:CEST
DTSTART:20220327T010000
END:DAYLIGHT
BEGIN:STANDARD
TZOFFSETFROM:+0200
TZOFFSETTO:+0100
TZNAME:CET
DTSTART:20221030T010000
END:STANDARD
BEGIN:DAYLIGHT
TZOFFSETFROM:+0100
TZOFFSETTO:+0200
TZNAME:CEST
DTSTART:20230326T010000
END:DAYLIGHT
BEGIN:STANDARD
TZOFFSETFROM:+0200
TZOFFSETTO:+0100
TZNAME:CET
DTSTART:20231029T010000
END:STANDARD
END:VTIMEZONE
BEGIN:VEVENT
DTSTART;TZID=Europe/Berlin:20221002T170000
DTEND;TZID=Europe/Berlin:20221002T180000
DTSTAMP:20260421T125203
CREATED:20220705T084450Z
LAST-MODIFIED:20220705T084450Z
UID:4023-1664730000-1664733600@lukasgemeinde.de
SUMMARY:Abendgottesdienst an Erntedank
DESCRIPTION:
URL:https://lukasgemeinde.de/event/abendgottesdienst-an-erntedank/
END:VEVENT
BEGIN:VEVENT
DTSTART;TZID=Europe/Berlin:20221009T100000
DTEND;TZID=Europe/Berlin:20221009T110000
DTSTAMP:20260421T125203
CREATED:20220705T084544Z
LAST-MODIFIED:20220705T084544Z
UID:4025-1665309600-1665313200@lukasgemeinde.de
SUMMARY:Andacht
DESCRIPTION:
URL:https://lukasgemeinde.de/event/andacht-10/
END:VEVENT
BEGIN:VEVENT
DTSTART;TZID=Europe/Berlin:20221016T100000
DTEND;TZID=Europe/Berlin:20221016T110000
DTSTAMP:20260421T125203
CREATED:20220705T084700Z
LAST-MODIFIED:20220705T084700Z
UID:4027-1665914400-1665918000@lukasgemeinde.de
SUMMARY:Gottesdienst mit Abendmahl
DESCRIPTION:
URL:https://lukasgemeinde.de/event/gottesdienst-mit-abendmahl-35/
END:VEVENT
BEGIN:VEVENT
DTSTART;TZID=Europe/Berlin:20221023T100000
DTEND;TZID=Europe/Berlin:20221023T110000
DTSTAMP:20260421T125203
CREATED:20220705T084911Z
LAST-MODIFIED:20220705T084911Z
UID:4029-1666519200-1666522800@lukasgemeinde.de
SUMMARY:Gottesdienst\, anschließend Kirchentee
DESCRIPTION:
URL:https://lukasgemeinde.de/event/gottesdienst-anschliessend-kirchentee-9/
END:VEVENT
BEGIN:VEVENT
DTSTART;TZID=Europe/Berlin:20221030T100000
DTEND;TZID=Europe/Berlin:20221030T110000
DTSTAMP:20260421T125203
CREATED:20220705T090116Z
LAST-MODIFIED:20220705T090116Z
UID:4031-1667124000-1667127600@lukasgemeinde.de
SUMMARY:Gottesdienst im Albert-Schweitzer-Zentrum
DESCRIPTION:
URL:https://lukasgemeinde.de/event/gottesdienst-im-albert-schweitzer-zentrum/
END:VEVENT
END:VCALENDAR