BEGIN:VCALENDAR
VERSION:2.0
PRODID:-//Evangelische Lukasgemeinde Wiesbaden - ECPv6.15.17.1//NONSGML v1.0//EN
CALSCALE:GREGORIAN
METHOD:PUBLISH
X-ORIGINAL-URL:https://lukasgemeinde.de
X-WR-CALDESC:Veranstaltungen für Evangelische Lukasgemeinde Wiesbaden
REFRESH-INTERVAL;VALUE=DURATION:PT1H
X-Robots-Tag:noindex
X-PUBLISHED-TTL:PT1H
BEGIN:VTIMEZONE
TZID:Europe/Berlin
BEGIN:DAYLIGHT
TZOFFSETFROM:+0100
TZOFFSETTO:+0200
TZNAME:CEST
DTSTART:20210328T010000
END:DAYLIGHT
BEGIN:STANDARD
TZOFFSETFROM:+0200
TZOFFSETTO:+0100
TZNAME:CET
DTSTART:20211031T010000
END:STANDARD
BEGIN:DAYLIGHT
TZOFFSETFROM:+0100
TZOFFSETTO:+0200
TZNAME:CEST
DTSTART:20220327T010000
END:DAYLIGHT
BEGIN:STANDARD
TZOFFSETFROM:+0200
TZOFFSETTO:+0100
TZNAME:CET
DTSTART:20221030T010000
END:STANDARD
BEGIN:DAYLIGHT
TZOFFSETFROM:+0100
TZOFFSETTO:+0200
TZNAME:CEST
DTSTART:20230326T010000
END:DAYLIGHT
BEGIN:STANDARD
TZOFFSETFROM:+0200
TZOFFSETTO:+0100
TZNAME:CET
DTSTART:20231029T010000
END:STANDARD
END:VTIMEZONE
BEGIN:VEVENT
DTSTART;TZID=Europe/Berlin:20220807T170000
DTEND;TZID=Europe/Berlin:20220807T180000
DTSTAMP:20260421T162522
CREATED:20220426T110456Z
LAST-MODIFIED:20220426T110456Z
UID:3978-1659891600-1659895200@lukasgemeinde.de
SUMMARY:Abendgottesdienst
DESCRIPTION:
URL:https://lukasgemeinde.de/event/abendgottesdienst-33/
END:VEVENT
BEGIN:VEVENT
DTSTART;TZID=Europe/Berlin:20220814T100000
DTEND;TZID=Europe/Berlin:20220814T110000
DTSTAMP:20260421T162522
CREATED:20220426T110530Z
LAST-MODIFIED:20220426T110530Z
UID:3980-1660471200-1660474800@lukasgemeinde.de
SUMMARY:Andacht
DESCRIPTION:
URL:https://lukasgemeinde.de/event/andacht-7/
END:VEVENT
BEGIN:VEVENT
DTSTART;TZID=Europe/Berlin:20220821T100000
DTEND;TZID=Europe/Berlin:20220821T110000
DTSTAMP:20260421T162522
CREATED:20220426T110650Z
LAST-MODIFIED:20220426T110650Z
UID:3982-1661076000-1661079600@lukasgemeinde.de
SUMMARY:Gottesdienst mit Abendmahl
DESCRIPTION:
URL:https://lukasgemeinde.de/event/gottesdienst-mit-abendmahl-34/
END:VEVENT
BEGIN:VEVENT
DTSTART;TZID=Europe/Berlin:20220828T100000
DTEND;TZID=Europe/Berlin:20220828T110000
DTSTAMP:20260421T162522
CREATED:20220426T110734Z
LAST-MODIFIED:20220426T110734Z
UID:3984-1661680800-1661684400@lukasgemeinde.de
SUMMARY:Gottesdienst\, anschließend Kirchentee
DESCRIPTION:
URL:https://lukasgemeinde.de/event/gottesdienst-anschliessend-kirchentee-7/
END:VEVENT
END:VCALENDAR