BEGIN:VCALENDAR
VERSION:2.0
PRODID:-//Evangelische Lukasgemeinde Wiesbaden - ECPv6.15.17.1//NONSGML v1.0//EN
CALSCALE:GREGORIAN
METHOD:PUBLISH
X-WR-CALNAME:Evangelische Lukasgemeinde Wiesbaden
X-ORIGINAL-URL:https://lukasgemeinde.de
X-WR-CALDESC:Veranstaltungen für Evangelische Lukasgemeinde Wiesbaden
REFRESH-INTERVAL;VALUE=DURATION:PT1H
X-Robots-Tag:noindex
X-PUBLISHED-TTL:PT1H
BEGIN:VTIMEZONE
TZID:Europe/Berlin
BEGIN:DAYLIGHT
TZOFFSETFROM:+0100
TZOFFSETTO:+0200
TZNAME:CEST
DTSTART:20250330T010000
END:DAYLIGHT
BEGIN:STANDARD
TZOFFSETFROM:+0200
TZOFFSETTO:+0100
TZNAME:CET
DTSTART:20251026T010000
END:STANDARD
BEGIN:DAYLIGHT
TZOFFSETFROM:+0100
TZOFFSETTO:+0200
TZNAME:CEST
DTSTART:20260329T010000
END:DAYLIGHT
BEGIN:STANDARD
TZOFFSETFROM:+0200
TZOFFSETTO:+0100
TZNAME:CET
DTSTART:20261025T010000
END:STANDARD
BEGIN:DAYLIGHT
TZOFFSETFROM:+0100
TZOFFSETTO:+0200
TZNAME:CEST
DTSTART:20270328T010000
END:DAYLIGHT
BEGIN:STANDARD
TZOFFSETFROM:+0200
TZOFFSETTO:+0100
TZNAME:CET
DTSTART:20271031T010000
END:STANDARD
END:VTIMEZONE
BEGIN:VEVENT
DTSTART;TZID=Europe/Berlin:20260517T100000
DTEND;TZID=Europe/Berlin:20260517T110000
DTSTAMP:20260419T182254
CREATED:20260408T095519Z
LAST-MODIFIED:20260408T095519Z
UID:4766-1779012000-1779015600@lukasgemeinde.de
SUMMARY:Gottesdienst mit Abendmahl
DESCRIPTION:
URL:https://lukasgemeinde.de/event/gottesdienst-mit-abendmahl-64/
END:VEVENT
BEGIN:VEVENT
DTSTART;TZID=Europe/Berlin:20260517T190000
DTEND;TZID=Europe/Berlin:20260517T200000
DTSTAMP:20260419T182254
CREATED:20260115T100234Z
LAST-MODIFIED:20260408T094716Z
UID:4745-1779044400-1779048000@lukasgemeinde.de
SUMMARY:Konzert mit DÉANO
DESCRIPTION:2026 05 17 Deáno am 17.05.2026
URL:https://lukasgemeinde.de/event/konzert-mit-deano/
END:VEVENT
END:VCALENDAR