BEGIN:VCALENDAR
VERSION:2.0
PRODID:-//Evangelische Lukasgemeinde Wiesbaden - ECPv6.15.17.1//NONSGML v1.0//EN
CALSCALE:GREGORIAN
METHOD:PUBLISH
X-ORIGINAL-URL:https://lukasgemeinde.de
X-WR-CALDESC:Veranstaltungen für Evangelische Lukasgemeinde Wiesbaden
REFRESH-INTERVAL;VALUE=DURATION:PT1H
X-Robots-Tag:noindex
X-PUBLISHED-TTL:PT1H
BEGIN:VTIMEZONE
TZID:Europe/Berlin
BEGIN:DAYLIGHT
TZOFFSETFROM:+0100
TZOFFSETTO:+0200
TZNAME:CEST
DTSTART:20250330T010000
END:DAYLIGHT
BEGIN:STANDARD
TZOFFSETFROM:+0200
TZOFFSETTO:+0100
TZNAME:CET
DTSTART:20251026T010000
END:STANDARD
BEGIN:DAYLIGHT
TZOFFSETFROM:+0100
TZOFFSETTO:+0200
TZNAME:CEST
DTSTART:20260329T010000
END:DAYLIGHT
BEGIN:STANDARD
TZOFFSETFROM:+0200
TZOFFSETTO:+0100
TZNAME:CET
DTSTART:20261025T010000
END:STANDARD
BEGIN:DAYLIGHT
TZOFFSETFROM:+0100
TZOFFSETTO:+0200
TZNAME:CEST
DTSTART:20270328T010000
END:DAYLIGHT
BEGIN:STANDARD
TZOFFSETFROM:+0200
TZOFFSETTO:+0100
TZNAME:CET
DTSTART:20271031T010000
END:STANDARD
END:VTIMEZONE
BEGIN:VEVENT
DTSTART;TZID=Europe/Berlin:20260514T100000
DTEND;TZID=Europe/Berlin:20260514T110000
DTSTAMP:20260419T182801
CREATED:20260408T101735Z
LAST-MODIFIED:20260408T101735Z
UID:4808-1778752800-1778756400@lukasgemeinde.de
SUMMARY:Gottesdienst an Himmelfahrt im Kirchgarten der Hauptkirche Biebrich
DESCRIPTION:
URL:https://lukasgemeinde.de/event/gottesdienst-an-himmelfahrt-im-kirchgarten-der-hauptkirche-biebrich/
END:VEVENT
END:VCALENDAR