BEGIN:VCALENDAR
VERSION:2.0
PRODID:-//Evangelische Lukasgemeinde Wiesbaden - ECPv6.15.17.1//NONSGML v1.0//EN
CALSCALE:GREGORIAN
METHOD:PUBLISH
X-ORIGINAL-URL:https://lukasgemeinde.de
X-WR-CALDESC:Veranstaltungen für Evangelische Lukasgemeinde Wiesbaden
REFRESH-INTERVAL;VALUE=DURATION:PT1H
X-Robots-Tag:noindex
X-PUBLISHED-TTL:PT1H
BEGIN:VTIMEZONE
TZID:Europe/Berlin
BEGIN:DAYLIGHT
TZOFFSETFROM:+0100
TZOFFSETTO:+0200
TZNAME:CEST
DTSTART:20240331T010000
END:DAYLIGHT
BEGIN:STANDARD
TZOFFSETFROM:+0200
TZOFFSETTO:+0100
TZNAME:CET
DTSTART:20241027T010000
END:STANDARD
BEGIN:DAYLIGHT
TZOFFSETFROM:+0100
TZOFFSETTO:+0200
TZNAME:CEST
DTSTART:20250330T010000
END:DAYLIGHT
BEGIN:STANDARD
TZOFFSETFROM:+0200
TZOFFSETTO:+0100
TZNAME:CET
DTSTART:20251026T010000
END:STANDARD
BEGIN:DAYLIGHT
TZOFFSETFROM:+0100
TZOFFSETTO:+0200
TZNAME:CEST
DTSTART:20260329T010000
END:DAYLIGHT
BEGIN:STANDARD
TZOFFSETFROM:+0200
TZOFFSETTO:+0100
TZNAME:CET
DTSTART:20261025T010000
END:STANDARD
END:VTIMEZONE
BEGIN:VEVENT
DTSTART;TZID=Europe/Berlin:20251108T170000
DTEND;TZID=Europe/Berlin:20251108T180000
DTSTAMP:20260420T010858
CREATED:20251009T091951Z
LAST-MODIFIED:20251009T092924Z
UID:4667-1762621200-1762624800@lukasgemeinde.de
SUMMARY:Konzert von DEÁNO in der Lukaskirche
DESCRIPTION:Link zum Plakat: 2025 11 08 Deáno in der Lukasgemeinde \nHochkarätige Musik vor Ihrer Haustür!\nEinen besonders unterhaltsamen Abend voll musikalischer Raffinesse und Unterhaltung bietet das Vokalterzett Deáno mit einer musikalischen Zeitreise am 08.11.2025 um 17 Uhr in der Lukasgemeinde\, Klagenfurter Ring 61.\nSusanne Juhre (Sopran)\, Laura-Maria Püsch (Alt)\, Leo Heidingsfelder (Bariton)\nDauer: ca. 1 h\nEintritt frei\, Spenden erbeten
URL:https://lukasgemeinde.de/event/konzert-von-deano-in-der-lukaskirche/
END:VEVENT
END:VCALENDAR